BEGIN:VCALENDAR
VERSION:2.0
PRODID:-//Ästhetik Akademie Berlin - ECPv6.15.20//NONSGML v1.0//EN
CALSCALE:GREGORIAN
METHOD:PUBLISH
X-WR-CALNAME:Ästhetik Akademie Berlin
X-ORIGINAL-URL:https://xn--sthetikakademie-berlin-z4b.de
X-WR-CALDESC:Veranstaltungen für Ästhetik Akademie Berlin
REFRESH-INTERVAL;VALUE=DURATION:PT1H
X-Robots-Tag:noindex
X-PUBLISHED-TTL:PT1H
BEGIN:VTIMEZONE
TZID:Europe/Berlin
BEGIN:DAYLIGHT
TZOFFSETFROM:+0100
TZOFFSETTO:+0200
TZNAME:CEST
DTSTART:20250330T010000
END:DAYLIGHT
BEGIN:STANDARD
TZOFFSETFROM:+0200
TZOFFSETTO:+0100
TZNAME:CET
DTSTART:20251026T010000
END:STANDARD
BEGIN:DAYLIGHT
TZOFFSETFROM:+0100
TZOFFSETTO:+0200
TZNAME:CEST
DTSTART:20260329T010000
END:DAYLIGHT
BEGIN:STANDARD
TZOFFSETFROM:+0200
TZOFFSETTO:+0100
TZNAME:CET
DTSTART:20261025T010000
END:STANDARD
BEGIN:DAYLIGHT
TZOFFSETFROM:+0100
TZOFFSETTO:+0200
TZNAME:CEST
DTSTART:20270328T010000
END:DAYLIGHT
BEGIN:STANDARD
TZOFFSETFROM:+0200
TZOFFSETTO:+0100
TZNAME:CET
DTSTART:20271031T010000
END:STANDARD
END:VTIMEZONE
BEGIN:VEVENT
DTSTART;TZID=Europe/Berlin:20260418T100000
DTEND;TZID=Europe/Berlin:20260418T143000
DTSTAMP:20260422T193822
CREATED:20250903T125249Z
LAST-MODIFIED:20260317T142457Z
UID:2532-1776506400-1776522600@xn--sthetikakademie-berlin-z4b.de
SUMMARY:Einzeltrainings ärztlich geleitet zur minimal-invasiven Ästhetik für Ärzte und HP € 1.600\,- MwSt befreit
DESCRIPTION:Die renomierte Ästhetik Akademie Berlin führt ärztlich geleitete Einzeltrainings zu den Kursen der minimal-invasiven Ästhetik für Ärzte und Heilpraktiker auch nach individueller Terminabsprache durch. \nDiese sind Anwendungen zur Faltenbehandlung mit Botulinum\, Hyaluronunterspritzungen spitze und stumpfe Kanüle\, PDO-Fadenlifting\, Plasma Therapie (Vampirlifting)\, Injektionslipolyse\, Hyaluron-Filler und Konfliktmanagement bei Fillern und Co. \nIn der Regel können auch mehrere Anwendungen wie z.B. Botulinum\, Hyaluron und PDO-Fadenlifting in einer Trainingseinheit kombiniert werden. \nSie können die Kurse alleine oder auch zu zweit belegen; bei einer Belegung zu zweit reduziert sich die Kursgebühr auf € 1200\,- pro Teilnehmer. \nTermine auch individuell vereinbar. \nSo können Sie in diesen Einzeltrainings Ihre Kenntnisse im Rahmen eines ganztägigen Kurses gezielt an Ihren Probanden erweitern und trainieren. Sie haben die Möglichkeit bis zu 6 Probanden mitzubringen\, die Sie dann unter Leitung der ärztl. Privatdozentin für ästhetische Medizin behandeln; dabei wird jeder Schritt ausführlich besprochen von der Aufklärung des Patienten\, über die Auswahl der geeigneten Materialien bis zur Skizzierung der Behandlungsoptionen unter Berücksichtigung der individuellen anatomischen Voraussetzungen\, dem Aufbau zur kompositorischen Ästhetik und schließlich dann die Anwendung der Injektionen. Sie haben ausreichend Zeit alleine oder ggfs. zu zweit in entspanntem Rahmen eines hervorragenden Praxisstandorts der Ästhetik Akademie in Berlin zu arbeiten. \nFragen und Techniken zur minimal-invasiven Ästhetik können unter Anwendung Ihrer individuellen Kenntnisse erörtert und erweitert werden\, so dass sowohl die Patientensicherheit als auch die Anwendungssicherheit optimiert wird. \nIm geschützten Ambiente und unter permanenter Anwesenheit einer langjährig in der Ästhetik etablierten Ärztin\, die Sie mit hervorragendem Wissen und den den neuesten Techniken unterstützt\, haben Sie in den Einzeltrainings die Möglichkeit Ihre Praxistätigkeit perfekt zu gestalten. \nDie mitgebrachten Modelle zahlen lediglich die reduzierten Material/Behandlungskosten\, die in der Regel bei der Hälfte der durchschnittlichen Kosten liegen also z.B. 1 ml Hyaluron in allen Stärken € 150\,- und pro Einheit Botox € 5\,- sowie für einen PDO-COG Faden € 120\,-. \nSo ist das auch für die mitgebrachten Modelle eine attraktive Situation unter ärztlicher Supervision behandelt zu werden und dabei die Kosten zu reduzieren. \nWir stehen Ihnen auch mit allen theoretischen Fragen zur Verfügung und legen einen besonderen Schwerpunkt auf das Konflikt-und Nebenwirkungsmanagement bei den Behandlungen z.B. die richtige Anwendung von Hyaluronidase\, eines Cortisonschemas bei Entzündungen\, das korrekte Auflösen von Granulomen etc. \nWir freuen uns Sie bei Ihrer Tätigkeit zur minimal-invasiven Ästhetik begleiten und unterstützen zu können. \nTermin: 2.11.2025\, 10 Uhr \nJetzt buchen
URL:https://xn--sthetikakademie-berlin-z4b.de/kurse/einzeltraining-minimal-invasive-aesthetik/
ATTACH;FMTTYPE=image/jpeg:https://xn--sthetikakademie-berlin-z4b.de/wp-content/uploads/2025/10/faltenbehandlung-weiterbildung-aesthetik-akademie-berlin.jpg
END:VEVENT
END:VCALENDAR