BEGIN:VCALENDAR
VERSION:2.0
PRODID:-//Ästhetik Akademie Berlin - ECPv6.15.20//NONSGML v1.0//EN
CALSCALE:GREGORIAN
METHOD:PUBLISH
X-ORIGINAL-URL:https://xn--sthetikakademie-berlin-z4b.de
X-WR-CALDESC:Veranstaltungen für Ästhetik Akademie Berlin
REFRESH-INTERVAL;VALUE=DURATION:PT1H
X-Robots-Tag:noindex
X-PUBLISHED-TTL:PT1H
BEGIN:VTIMEZONE
TZID:Europe/Berlin
BEGIN:DAYLIGHT
TZOFFSETFROM:+0100
TZOFFSETTO:+0200
TZNAME:CEST
DTSTART:20250330T010000
END:DAYLIGHT
BEGIN:STANDARD
TZOFFSETFROM:+0200
TZOFFSETTO:+0100
TZNAME:CET
DTSTART:20251026T010000
END:STANDARD
BEGIN:DAYLIGHT
TZOFFSETFROM:+0100
TZOFFSETTO:+0200
TZNAME:CEST
DTSTART:20260329T010000
END:DAYLIGHT
BEGIN:STANDARD
TZOFFSETFROM:+0200
TZOFFSETTO:+0100
TZNAME:CET
DTSTART:20261025T010000
END:STANDARD
BEGIN:DAYLIGHT
TZOFFSETFROM:+0100
TZOFFSETTO:+0200
TZNAME:CEST
DTSTART:20270328T010000
END:DAYLIGHT
BEGIN:STANDARD
TZOFFSETFROM:+0200
TZOFFSETTO:+0100
TZNAME:CET
DTSTART:20271031T010000
END:STANDARD
END:VTIMEZONE
BEGIN:VEVENT
DTSTART;VALUE=DATE:20260529
DTEND;VALUE=DATE:20260601
DTSTAMP:20260422T213041
CREATED:20250905T095847Z
LAST-MODIFIED:20260120T135831Z
UID:2385-1780012800-1780271999@xn--sthetikakademie-berlin-z4b.de
SUMMARY:Anatomietraining/Präparationskurs an der Charité Berlin Universitätsmedizin € 2.750.- inkl. Tagesverpflegung/MwSt befreit Mai 2026
DESCRIPTION:Der 3-tägige firmenunabhängige Präparierkurs findet unter Leitung eines wissenschaftlichen Teams aus Ärzten\, Präparatoren und Heilpraktikern an der renommierten Plastinarium in Guben statt \nDas gesamte Anatomietraining vom 07.-09. November 2025 wird in den Seminar- und Präparationsräumen des Plastinariums Guben durchgeführt. Wir veranstalten das Anatomietraining 2 x im Jahr wechselweise an der Charité Berlin Universitätsmedizin und im Plastinarium Guben. \nDieser Kurs ist von der Berliner Ärztekammer mit 20 CME-Fortbildungspunkten anerkannt. \nWir haben uns bewusst für diesen Standort und Seminare mit max. 10 Teilnehmern und 4 Dozenten /5 Präparaten entschieden\, um optimale Ausbildungsvoraussetzungen zu gewährleisten und einen hohen Lernzuwachs zu ermöglichen. \nDer Präparierkurs für ästhetisch tätige Ärztinnen\, Ärzte und Heilpraktiker/innen\, die Ihre anatomischen Kenntnisse erweitern möchten\, vermittelt neues und tiefgreifendes anatomisches Wissen der Gesichtsregion zur präzisen Applikation von Fillern\, Fäden und muskelrelaxierenden Injektionen. Hierbei kommen die neuesten Techniken bei der Volumenaugmentation/ Faltenbehandlung sowie die Verwendung von spitzen versus stumpfen Kanülen und spezielle Fadentechniken zum Einsatz. \nDie Präparation der eingebrachten Materialien soll Anwendungssicherheit im Hinblick auf Gewebetiefe-und Strukturen\, Leitungsbahnen und muskuläre wie nervale Lokalisationen ermöglichen. Gleichzeitig ist der Fokus auf ein adäquates Fehlermanagement ein weiterer Schritt zur sicheren Behandlung der Patienten. \nWir arbeiten mit eingefärbten Materialien an Humanpräparaten und präparieren diese dann unter Supervision des anwesenden Teams frei. Wir sind sehr erfahren auch in der Einführung für Teilnehmer\, die das erste Mal am Präparat arbeiten und begleiten diese bei allen Schritten. \nDie Veranstaltung findet im Plastinarium Guben statt. \nIm Plastinarium Guben findet der Präparierkurs der Ästhetik Akademie Berlin statt. Bild: Wikimedia/TheFlyingDutchman\, CC-BY-3.0\nDie Kursgebühr beinhaltet auch die Tagesverpflegung; der Präparierkurs ist außerdem MwSt befreit. \nJeder Seminarteilnehmer erhält nach erfolgreichem Abschluss der Ausbildung ein entsprechendes Zertifikat. \nWir freuen uns sehr in Kooperation mit dem Plastinarium Guben Ihnen dieses hochwertige Ausbildungsseminar anbieten zu können. \nTermin: 7.11.2025 – 9.11.2025 \nJetzt buchen
URL:https://xn--sthetikakademie-berlin-z4b.de/kurse/anatomietraining-praeparationskurs-plastinarium-guben/
ATTACH;FMTTYPE=image/jpeg:https://xn--sthetikakademie-berlin-z4b.de/wp-content/uploads/2025/09/anatomietraining-guben.jpg
END:VEVENT
END:VCALENDAR